BEGIN:VCALENDAR
VERSION:2.0
PRODID:-//Fire Club - Swing e Balada Liberal - ECPv6.15.13//NONSGML v1.0//EN
CALSCALE:GREGORIAN
METHOD:PUBLISH
X-WR-CALNAME:Fire Club - Swing e Balada Liberal
X-ORIGINAL-URL:https://fireclub.com.br
X-WR-CALDESC:Eventos para Fire Club - Swing e Balada Liberal
REFRESH-INTERVAL;VALUE=DURATION:PT1H
X-Robots-Tag:noindex
X-PUBLISHED-TTL:PT1H
BEGIN:VTIMEZONE
TZID:America/Cuiaba
BEGIN:STANDARD
TZOFFSETFROM:-0400
TZOFFSETTO:-0400
TZNAME:-04
DTSTART:20240101T000000
END:STANDARD
END:VTIMEZONE
BEGIN:VEVENT
DTSTART;VALUE=DATE:20260211
DTEND;VALUE=DATE:20260213
DTSTAMP:20260423T194126
CREATED:20260206T001432Z
LAST-MODIFIED:20260206T001432Z
UID:23311-1770796800-1770883199@fireclub.com.br
SUMMARY:Quarta sem calcinha
DESCRIPTION:
URL:https://fireclub.com.br/evento/quarta-sem-calcinha-3/
ATTACH;FMTTYPE=image/jpeg:https://fireclub.com.br/wp-content/uploads/2026/02/quarta-s-calcinha.jpg
END:VEVENT
BEGIN:VEVENT
DTSTART;VALUE=DATE:20260207
DTEND;VALUE=DATE:20260209
DTSTAMP:20260423T194126
CREATED:20260129T002027Z
LAST-MODIFIED:20260203T005119Z
UID:23275-1770451200-1770537599@fireclub.com.br
SUMMARY:Desejo Coletivo
DESCRIPTION:
URL:https://fireclub.com.br/evento/desejo-coletivo/
CATEGORIES:Evento
ATTACH;FMTTYPE=image/jpeg:https://fireclub.com.br/wp-content/uploads/2026/01/4.jpg
END:VEVENT
BEGIN:VEVENT
DTSTART;VALUE=DATE:20260206
DTEND;VALUE=DATE:20260208
DTSTAMP:20260423T194126
CREATED:20260129T001928Z
LAST-MODIFIED:20260203T005022Z
UID:23272-1770364800-1770451199@fireclub.com.br
SUMMARY:Sexta Proibida
DESCRIPTION:
URL:https://fireclub.com.br/evento/sexta-proibida/
CATEGORIES:Evento
ATTACH;FMTTYPE=image/jpeg:https://fireclub.com.br/wp-content/uploads/2026/01/1-2.jpg
END:VEVENT
BEGIN:VEVENT
DTSTART;VALUE=DATE:20260205
DTEND;VALUE=DATE:20260207
DTSTAMP:20260423T194126
CREATED:20260129T001735Z
LAST-MODIFIED:20260129T001814Z
UID:23269-1770278400-1770357599@fireclub.com.br
SUMMARY:Delírio Noturno
DESCRIPTION:
URL:https://fireclub.com.br/evento/delirio-noturno-2/
CATEGORIES:Evento
ATTACH;FMTTYPE=image/jpeg:https://fireclub.com.br/wp-content/uploads/2026/01/WhatsApp-Image-2026-01-26-at-20.56.05.jpeg
END:VEVENT
BEGIN:VEVENT
DTSTART;VALUE=DATE:20260202
DTEND;VALUE=DATE:20260204
DTSTAMP:20260423T194126
CREATED:20260129T001505Z
LAST-MODIFIED:20260129T001505Z
UID:23263-1770019200-1770098399@fireclub.com.br
SUMMARY:Entre Casais
DESCRIPTION:
URL:https://fireclub.com.br/evento/entre-casais/
CATEGORIES:Evento
ATTACH;FMTTYPE=image/jpeg:https://fireclub.com.br/wp-content/uploads/2026/01/WhatsApp-Image-2026-01-26-at-20.35.45.jpeg
END:VEVENT
BEGIN:VEVENT
DTSTART;VALUE=DATE:20260131
DTEND;VALUE=DATE:20260202
DTSTAMP:20260423T194126
CREATED:20260124T222753Z
LAST-MODIFIED:20260124T222753Z
UID:23252-1769846400-1769925599@fireclub.com.br
SUMMARY:Fire Neon Night
DESCRIPTION:
URL:https://fireclub.com.br/evento/fire-neon-night/
CATEGORIES:Evento
ATTACH;FMTTYPE=image/jpeg:https://fireclub.com.br/wp-content/uploads/2026/01/1-1.jpg
END:VEVENT
BEGIN:VEVENT
DTSTART;VALUE=DATE:20260130
DTEND;VALUE=DATE:20260201
DTSTAMP:20260423T194126
CREATED:20260124T222649Z
LAST-MODIFIED:20260124T222649Z
UID:23248-1769760000-1769839199@fireclub.com.br
SUMMARY:Sexta Menage
DESCRIPTION:
URL:https://fireclub.com.br/evento/sexta-menage-6/
CATEGORIES:Evento
ATTACH;FMTTYPE=image/jpeg:https://fireclub.com.br/wp-content/uploads/2026/01/2.jpg
END:VEVENT
BEGIN:VEVENT
DTSTART;VALUE=DATE:20260129
DTEND;VALUE=DATE:20260131
DTSTAMP:20260423T194126
CREATED:20260124T222558Z
LAST-MODIFIED:20260125T183952Z
UID:23245-1769673600-1769752799@fireclub.com.br
SUMMARY:Quinta Proibida
DESCRIPTION:
URL:https://fireclub.com.br/evento/quinta-proibida/
CATEGORIES:Evento
ATTACH;FMTTYPE=image/jpeg:https://fireclub.com.br/wp-content/uploads/2026/01/quinta-proibida.jpg
END:VEVENT
BEGIN:VEVENT
DTSTART;VALUE=DATE:20260128
DTEND;VALUE=DATE:20260130
DTSTAMP:20260423T194126
CREATED:20260124T222459Z
LAST-MODIFIED:20260124T222459Z
UID:23242-1769587200-1769666399@fireclub.com.br
SUMMARY:Quarta Swing
DESCRIPTION:
URL:https://fireclub.com.br/evento/quarta-swing-3/
CATEGORIES:Evento
ATTACH;FMTTYPE=image/jpeg:https://fireclub.com.br/wp-content/uploads/2026/01/quarta.jpeg
END:VEVENT
BEGIN:VEVENT
DTSTART;VALUE=DATE:20260124
DTEND;VALUE=DATE:20260126
DTSTAMP:20260423T194126
CREATED:20260119T233614Z
LAST-MODIFIED:20260119T233822Z
UID:23237-1769241600-1769320799@fireclub.com.br
SUMMARY:Tentação Íntima
DESCRIPTION:
URL:https://fireclub.com.br/evento/tentacao-intima/
CATEGORIES:Evento
ATTACH;FMTTYPE=image/jpeg:https://fireclub.com.br/wp-content/uploads/2026/01/1.jpg
END:VEVENT
BEGIN:VEVENT
DTSTART;VALUE=DATE:20260123
DTEND;VALUE=DATE:20260125
DTSTAMP:20260423T194126
CREATED:20260119T233340Z
LAST-MODIFIED:20260119T233340Z
UID:23234-1769155200-1769234399@fireclub.com.br
SUMMARY:Instinto Noturno
DESCRIPTION:
URL:https://fireclub.com.br/evento/instinto-noturno/
CATEGORIES:Evento
ATTACH;FMTTYPE=image/jpeg:https://fireclub.com.br/wp-content/uploads/2026/01/WhatsApp-Image-2026-01-19-at-19.22.04.jpeg
END:VEVENT
BEGIN:VEVENT
DTSTART;VALUE=DATE:20260122
DTEND;VALUE=DATE:20260124
DTSTAMP:20260423T194126
CREATED:20260119T013612Z
LAST-MODIFIED:20260119T013612Z
UID:23231-1769068800-1769147999@fireclub.com.br
SUMMARY:Troca Selvagem
DESCRIPTION:
URL:https://fireclub.com.br/evento/troca-selvagem-2/
CATEGORIES:Evento
ATTACH;FMTTYPE=image/jpeg:https://fireclub.com.br/wp-content/uploads/2026/01/WhatsApp-Image-2026-01-18-at-18.16.38.jpeg
END:VEVENT
BEGIN:VEVENT
DTSTART;VALUE=DATE:20260121
DTEND;VALUE=DATE:20260123
DTSTAMP:20260423T194126
CREATED:20260119T013505Z
LAST-MODIFIED:20260119T013505Z
UID:23228-1768982400-1769061599@fireclub.com.br
SUMMARY:Quarta sem calcinha
DESCRIPTION:
URL:https://fireclub.com.br/evento/quarta-sem-calcinha-2/
ATTACH;FMTTYPE=image/jpeg:https://fireclub.com.br/wp-content/uploads/2026/01/WhatsApp-Image-2026-01-18-at-16.57.09.jpeg
END:VEVENT
BEGIN:VEVENT
DTSTART;VALUE=DATE:20260117
DTEND;VALUE=DATE:20260119
DTSTAMP:20260423T194126
CREATED:20260115T011430Z
LAST-MODIFIED:20260115T011430Z
UID:23222-1768636800-1768715999@fireclub.com.br
SUMMARY:Prazer Proibido
DESCRIPTION:
URL:https://fireclub.com.br/evento/prazer-proibido/
CATEGORIES:Evento
ATTACH;FMTTYPE=image/jpeg:https://fireclub.com.br/wp-content/uploads/2026/01/WhatsApp-Image-2026-01-14-at-20.19.59.jpeg
END:VEVENT
BEGIN:VEVENT
DTSTART;VALUE=DATE:20260116
DTEND;VALUE=DATE:20260118
DTSTAMP:20260423T194126
CREATED:20260115T011334Z
LAST-MODIFIED:20260115T011334Z
UID:23219-1768550400-1768629599@fireclub.com.br
SUMMARY:Desejo Privê
DESCRIPTION:
URL:https://fireclub.com.br/evento/desejo-prive/
CATEGORIES:Evento
ATTACH;FMTTYPE=image/jpeg:https://fireclub.com.br/wp-content/uploads/2026/01/WhatsApp-Image-2026-01-14-at-19.43.42.jpeg
END:VEVENT
BEGIN:VEVENT
DTSTART;VALUE=DATE:20260115
DTEND;VALUE=DATE:20260117
DTSTAMP:20260423T194126
CREATED:20260115T011219Z
LAST-MODIFIED:20260115T103620Z
UID:23216-1768464000-1768543199@fireclub.com.br
SUMMARY:Convite Íntimo
DESCRIPTION:
URL:https://fireclub.com.br/evento/convite-intimo/
CATEGORIES:Evento
ATTACH;FMTTYPE=image/jpeg:https://fireclub.com.br/wp-content/uploads/2026/01/desejo-prive.jpg
END:VEVENT
BEGIN:VEVENT
DTSTART;VALUE=DATE:20260114
DTEND;VALUE=DATE:20260116
DTSTAMP:20260423T194126
CREATED:20260114T182714Z
LAST-MODIFIED:20260114T182714Z
UID:23202-1768377600-1768456799@fireclub.com.br
SUMMARY:Delírio Noturno
DESCRIPTION:
URL:https://fireclub.com.br/evento/delirio-noturno/
CATEGORIES:Evento
ATTACH;FMTTYPE=image/jpeg:https://fireclub.com.br/wp-content/uploads/2026/01/IMG-20260113-WA0107.jpg
END:VEVENT
BEGIN:VEVENT
DTSTART;VALUE=DATE:20260110
DTEND;VALUE=DATE:20260112
DTSTAMP:20260423T194126
CREATED:20260110T225608Z
LAST-MODIFIED:20260110T225608Z
UID:23199-1768032000-1768111199@fireclub.com.br
SUMMARY:Instinto Privê
DESCRIPTION:
URL:https://fireclub.com.br/evento/instinto-prive/
CATEGORIES:Evento
ATTACH;FMTTYPE=image/jpeg:https://fireclub.com.br/wp-content/uploads/2026/01/instinto-prive.jpg
END:VEVENT
BEGIN:VEVENT
DTSTART;VALUE=DATE:20260109
DTEND;VALUE=DATE:20260111
DTSTAMP:20260423T194126
CREATED:20260109T200648Z
LAST-MODIFIED:20260109T200648Z
UID:23195-1767945600-1768024799@fireclub.com.br
SUMMARY:Prazer oculto
DESCRIPTION:
URL:https://fireclub.com.br/evento/prazer-oculto/
CATEGORIES:Evento
ATTACH;FMTTYPE=image/jpeg:https://fireclub.com.br/wp-content/uploads/2026/01/IMG-20260109-WA0101.jpg
END:VEVENT
BEGIN:VEVENT
DTSTART;VALUE=DATE:20260103
DTEND;VALUE=DATE:20260105
DTSTAMP:20260423T194126
CREATED:20260103T205150Z
LAST-MODIFIED:20260103T205150Z
UID:23191-1767427200-1767506399@fireclub.com.br
SUMMARY:Tesão Absoluto
DESCRIPTION:
URL:https://fireclub.com.br/evento/tesao-absoluto/
CATEGORIES:Evento
ATTACH;FMTTYPE=image/jpeg:https://fireclub.com.br/wp-content/uploads/2026/01/IMG-20260103-WA0057.jpg
END:VEVENT
BEGIN:VEVENT
DTSTART;VALUE=DATE:20260102
DTEND;VALUE=DATE:20260104
DTSTAMP:20260423T194126
CREATED:20260102T210322Z
LAST-MODIFIED:20260102T210322Z
UID:23187-1767340800-1767419999@fireclub.com.br
SUMMARY:Desejo Insano
DESCRIPTION:
URL:https://fireclub.com.br/evento/desejo-insano/
CATEGORIES:Evento
ATTACH;FMTTYPE=image/jpeg:https://fireclub.com.br/wp-content/uploads/2026/01/desejo-insano.jpg
END:VEVENT
BEGIN:VEVENT
DTSTART;VALUE=DATE:20251220
DTEND;VALUE=DATE:20251222
DTSTAMP:20260423T194126
CREATED:20251220T223634Z
LAST-MODIFIED:20251220T223634Z
UID:23183-1766217600-1766296799@fireclub.com.br
SUMMARY:Troca Selvagem
DESCRIPTION:
URL:https://fireclub.com.br/evento/troca-selvagem/
CATEGORIES:Evento
ATTACH;FMTTYPE=image/jpeg:https://fireclub.com.br/wp-content/uploads/2025/12/IMG-20251220-WA0123.jpg
END:VEVENT
BEGIN:VEVENT
DTSTART;VALUE=DATE:20251218
DTEND;VALUE=DATE:20251220
DTSTAMP:20260423T194126
CREATED:20251219T012559Z
LAST-MODIFIED:20251219T012622Z
UID:23178-1766044800-1766123999@fireclub.com.br
SUMMARY:Prazer Selvagem
DESCRIPTION:
URL:https://fireclub.com.br/evento/prazer-selvagem/
CATEGORIES:Evento
ATTACH;FMTTYPE=image/jpeg:https://fireclub.com.br/wp-content/uploads/2025/12/prazer-selvagem.jpg
END:VEVENT
BEGIN:VEVENT
DTSTART;VALUE=DATE:20251213
DTEND;VALUE=DATE:20251215
DTSTAMP:20260423T194127
CREATED:20251213T221717Z
LAST-MODIFIED:20251213T221717Z
UID:23175-1765612800-1765691999@fireclub.com.br
SUMMARY:Prazer Coletivo
DESCRIPTION:
URL:https://fireclub.com.br/evento/prazer-coletivo/
CATEGORIES:Evento
ATTACH;FMTTYPE=image/jpeg:https://fireclub.com.br/wp-content/uploads/2025/12/bate-com-forca-d.jpg
END:VEVENT
BEGIN:VEVENT
DTSTART;VALUE=DATE:20251212
DTEND;VALUE=DATE:20251214
DTSTAMP:20260423T194127
CREATED:20251212T220835Z
LAST-MODIFIED:20251212T220835Z
UID:23171-1765526400-1765605599@fireclub.com.br
SUMMARY:Orgia Privê
DESCRIPTION:
URL:https://fireclub.com.br/evento/orgia-prive/
CATEGORIES:Evento
ATTACH;FMTTYPE=image/jpeg:https://fireclub.com.br/wp-content/uploads/2025/12/FIRE.jpg
END:VEVENT
BEGIN:VEVENT
DTSTART;VALUE=DATE:20251206
DTEND;VALUE=DATE:20251208
DTSTAMP:20260423T194127
CREATED:20251206T221859Z
LAST-MODIFIED:20251206T221859Z
UID:23167-1765008000-1765087199@fireclub.com.br
SUMMARY:Puro Prazer
DESCRIPTION:
URL:https://fireclub.com.br/evento/puro-prazer/
CATEGORIES:Evento
ATTACH;FMTTYPE=image/png:https://fireclub.com.br/wp-content/uploads/2025/12/sabads.png
END:VEVENT
BEGIN:VEVENT
DTSTART;VALUE=DATE:20251205
DTEND;VALUE=DATE:20251207
DTSTAMP:20260423T194127
CREATED:20251205T161519Z
LAST-MODIFIED:20251205T161519Z
UID:23163-1764921600-1765000799@fireclub.com.br
SUMMARY:Sexta Liberal
DESCRIPTION:
URL:https://fireclub.com.br/evento/sexta-liberal/
CATEGORIES:Evento
ATTACH;FMTTYPE=image/jpeg:https://fireclub.com.br/wp-content/uploads/2025/12/sexta-na-fire.jpg
END:VEVENT
BEGIN:VEVENT
DTSTART;VALUE=DATE:20251129
DTEND;VALUE=DATE:20251201
DTSTAMP:20260423T194127
CREATED:20251129T213835Z
LAST-MODIFIED:20251129T213835Z
UID:23160-1764403200-1764482399@fireclub.com.br
SUMMARY:Sábado Ménage
DESCRIPTION:
URL:https://fireclub.com.br/evento/sabado-menage-4/
CATEGORIES:Evento
ATTACH;FMTTYPE=image/jpeg:https://fireclub.com.br/wp-content/uploads/2025/11/noite-menage.jpg
END:VEVENT
BEGIN:VEVENT
DTSTART;VALUE=DATE:20251128
DTEND;VALUE=DATE:20251130
DTSTAMP:20260423T194127
CREATED:20251128T231545Z
LAST-MODIFIED:20251128T231545Z
UID:23156-1764316800-1764395999@fireclub.com.br
SUMMARY:Sexta Swing
DESCRIPTION:
URL:https://fireclub.com.br/evento/sexta-swing-10/
CATEGORIES:Evento
ATTACH;FMTTYPE=image/jpeg:https://fireclub.com.br/wp-content/uploads/2025/11/5176fd3d-9d3f-43a7-ba81-c254acd71118.jpeg
END:VEVENT
BEGIN:VEVENT
DTSTART;TZID=America/Cuiaba:20251122T220000
DTEND;TZID=America/Cuiaba:20251123T050000
DTSTAMP:20260423T194127
CREATED:20251122T163511Z
LAST-MODIFIED:20251122T163629Z
UID:23151-1763848800-1763874000@fireclub.com.br
SUMMARY:Sábado Swing
DESCRIPTION:
URL:https://fireclub.com.br/evento/sabado-swing-12/
CATEGORIES:Evento
ATTACH;FMTTYPE=image/jpeg:https://fireclub.com.br/wp-content/uploads/2025/11/f89374b8-e75b-45f2-ad8f-ec4d7800c83e.jpeg
END:VEVENT
END:VCALENDAR