BEGIN:VCALENDAR
VERSION:2.0
PRODID:-//Fire Club - Swing e Balada Liberal - ECPv6.15.13//NONSGML v1.0//EN
CALSCALE:GREGORIAN
METHOD:PUBLISH
X-WR-CALNAME:Fire Club - Swing e Balada Liberal
X-ORIGINAL-URL:https://fireclub.com.br
X-WR-CALDESC:Eventos para Fire Club - Swing e Balada Liberal
REFRESH-INTERVAL;VALUE=DURATION:PT1H
X-Robots-Tag:noindex
X-PUBLISHED-TTL:PT1H
BEGIN:VTIMEZONE
TZID:America/Cuiaba
BEGIN:STANDARD
TZOFFSETFROM:-0400
TZOFFSETTO:-0400
TZNAME:-04
DTSTART:20250101T000000
END:STANDARD
END:VTIMEZONE
BEGIN:VEVENT
DTSTART;VALUE=DATE:20260307
DTEND;VALUE=DATE:20260309
DTSTAMP:20260423T181759
CREATED:20260304T005427Z
LAST-MODIFIED:20260304T005427Z
UID:23396-1772870400-1772956799@fireclub.com.br
SUMMARY:Swing Privê
DESCRIPTION:
URL:https://fireclub.com.br/evento/swing-prive-2/
ATTACH;FMTTYPE=image/jpeg:https://fireclub.com.br/wp-content/uploads/2026/03/swing-prive2.jpg
END:VEVENT
BEGIN:VEVENT
DTSTART;VALUE=DATE:20260308
DTEND;VALUE=DATE:20260310
DTSTAMP:20260423T181759
CREATED:20260306T233020Z
LAST-MODIFIED:20260306T233020Z
UID:23400-1772956800-1773043199@fireclub.com.br
SUMMARY:After na Piscina Liberal
DESCRIPTION:
URL:https://fireclub.com.br/evento/after-na-piscina-liberal/
ATTACH;FMTTYPE=image/jpeg:https://fireclub.com.br/wp-content/uploads/2026/03/AFTER-PISCINA.jpg
END:VEVENT
BEGIN:VEVENT
DTSTART;VALUE=DATE:20260312
DTEND;VALUE=DATE:20260314
DTSTAMP:20260423T181759
CREATED:20260311T001943Z
LAST-MODIFIED:20260311T001943Z
UID:23408-1773302400-1773388799@fireclub.com.br
SUMMARY:Delírio Noturno
DESCRIPTION:
URL:https://fireclub.com.br/evento/delirio-noturno-4/
ATTACH;FMTTYPE=image/jpeg:https://fireclub.com.br/wp-content/uploads/2026/03/WhatsApp-Image-2026-03-09-at-20.33.53.jpeg
END:VEVENT
BEGIN:VEVENT
DTSTART;VALUE=DATE:20260313
DTEND;VALUE=DATE:20260315
DTSTAMP:20260423T181759
CREATED:20260311T005443Z
LAST-MODIFIED:20260311T005443Z
UID:23412-1773388800-1773475199@fireclub.com.br
SUMMARY:Sexta Ménage
DESCRIPTION:
URL:https://fireclub.com.br/evento/sexta-menage-7/
ATTACH;FMTTYPE=image/jpeg:https://fireclub.com.br/wp-content/uploads/2026/03/sexta-menage.jpg
END:VEVENT
BEGIN:VEVENT
DTSTART;TZID=America/Cuiaba:20260314T080000
DTEND;TZID=America/Cuiaba:20260314T170000
DTSTAMP:20260423T181759
CREATED:20260309T001649Z
LAST-MODIFIED:20260311T001610Z
UID:23403-1773475200-1773507600@fireclub.com.br
SUMMARY:Fuego y Tequila
DESCRIPTION:
URL:https://fireclub.com.br/evento/fuego-y-tequila/
ATTACH;FMTTYPE=image/jpeg:https://fireclub.com.br/wp-content/uploads/2026/03/fuego-y-tequila-final.jpg
END:VEVENT
BEGIN:VEVENT
DTSTART;VALUE=DATE:20260318
DTEND;VALUE=DATE:20260320
DTSTAMP:20260423T181759
CREATED:20260317T000605Z
LAST-MODIFIED:20260317T000605Z
UID:23425-1773820800-1773907199@fireclub.com.br
SUMMARY:Desejo Insano
DESCRIPTION:
URL:https://fireclub.com.br/evento/desejo-insano-2/
ATTACH;FMTTYPE=image/jpeg:https://fireclub.com.br/wp-content/uploads/2026/03/desejo-insano-2.jpg
END:VEVENT
BEGIN:VEVENT
DTSTART;VALUE=DATE:20260319
DTEND;VALUE=DATE:20260321
DTSTAMP:20260423T181759
CREATED:20260317T004712Z
LAST-MODIFIED:20260317T004712Z
UID:23431-1773907200-1773993599@fireclub.com.br
SUMMARY:Convite Íntimo
DESCRIPTION:
URL:https://fireclub.com.br/evento/convite-intimo-2/
ATTACH;FMTTYPE=image/jpeg:https://fireclub.com.br/wp-content/uploads/2026/03/convite-intimo-3.jpg
END:VEVENT
BEGIN:VEVENT
DTSTART;VALUE=DATE:20260320
DTEND;VALUE=DATE:20260322
DTSTAMP:20260423T181759
CREATED:20260318T231915Z
LAST-MODIFIED:20260318T231915Z
UID:23434-1773993600-1774079999@fireclub.com.br
SUMMARY:Delírio Noturno
DESCRIPTION:
URL:https://fireclub.com.br/evento/delirio-noturno-5/
ATTACH;FMTTYPE=image/jpeg:https://fireclub.com.br/wp-content/uploads/2026/03/swing-prive.jpg
END:VEVENT
BEGIN:VEVENT
DTSTART;VALUE=DATE:20260321
DTEND;VALUE=DATE:20260323
DTSTAMP:20260423T181759
CREATED:20260319T012958Z
LAST-MODIFIED:20260319T012958Z
UID:23437-1774080000-1774166399@fireclub.com.br
SUMMARY:Swing Privê
DESCRIPTION:
URL:https://fireclub.com.br/evento/swing-prive-3/
ATTACH;FMTTYPE=image/jpeg:https://fireclub.com.br/wp-content/uploads/2026/03/swing-prive-1.jpg
END:VEVENT
BEGIN:VEVENT
DTSTART;TZID=America/Cuiaba:20260322T170000
DTEND;TZID=America/Cuiaba:20260322T230000
DTSTAMP:20260423T181759
CREATED:20260322T162342Z
LAST-MODIFIED:20260322T162342Z
UID:23440-1774198800-1774220400@fireclub.com.br
SUMMARY:Tardezinha Liberal
DESCRIPTION:
URL:https://fireclub.com.br/evento/tardezinha-liberal/
CATEGORIES:Evento
ATTACH;FMTTYPE=image/jpeg:https://fireclub.com.br/wp-content/uploads/2026/03/IMG-20260320-WA0083.jpg
END:VEVENT
BEGIN:VEVENT
DTSTART;VALUE=DATE:20260325
DTEND;VALUE=DATE:20260327
DTSTAMP:20260423T181759
CREATED:20260324T231325Z
LAST-MODIFIED:20260324T231325Z
UID:23444-1774425600-1774511999@fireclub.com.br
SUMMARY:Quarta Hotwife
DESCRIPTION:
URL:https://fireclub.com.br/evento/quarta-hotwife/
ATTACH;FMTTYPE=image/jpeg:https://fireclub.com.br/wp-content/uploads/2026/03/WhatsApp-Image-2026-03-24-at-13.45.25.jpeg
END:VEVENT
BEGIN:VEVENT
DTSTART;VALUE=DATE:20260326
DTEND;VALUE=DATE:20260328
DTSTAMP:20260423T181759
CREATED:20260324T231425Z
LAST-MODIFIED:20260324T231425Z
UID:23447-1774512000-1774598399@fireclub.com.br
SUMMARY:Convite Secreto
DESCRIPTION:
URL:https://fireclub.com.br/evento/convite-secreto-4/
ATTACH;FMTTYPE=image/jpeg:https://fireclub.com.br/wp-content/uploads/2026/03/WhatsApp-Image-2026-03-24-at-19.03.56.jpeg
END:VEVENT
BEGIN:VEVENT
DTSTART;VALUE=DATE:20260327
DTEND;VALUE=DATE:20260329
DTSTAMP:20260423T181759
CREATED:20260326T170239Z
LAST-MODIFIED:20260326T170239Z
UID:23453-1774598400-1774684799@fireclub.com.br
SUMMARY:Sexta Swing
DESCRIPTION:
URL:https://fireclub.com.br/evento/sexta-swing-11/
ATTACH;FMTTYPE=image/jpeg:https://fireclub.com.br/wp-content/uploads/2026/03/1.jpg
END:VEVENT
BEGIN:VEVENT
DTSTART;VALUE=DATE:20260328
DTEND;VALUE=DATE:20260330
DTSTAMP:20260423T181759
CREATED:20260325T173203Z
LAST-MODIFIED:20260325T173203Z
UID:23450-1774684800-1774771199@fireclub.com.br
SUMMARY:Black & White
DESCRIPTION:
URL:https://fireclub.com.br/evento/black-white/
ATTACH;FMTTYPE=image/jpeg:https://fireclub.com.br/wp-content/uploads/2026/03/preto-e-branco.jpg
END:VEVENT
BEGIN:VEVENT
DTSTART;VALUE=DATE:20260329
DTEND;VALUE=DATE:20260331
DTSTAMP:20260423T181759
CREATED:20260326T171920Z
LAST-MODIFIED:20260326T171920Z
UID:23456-1774771200-1774857599@fireclub.com.br
SUMMARY:Tardezinha Liberal
DESCRIPTION:
URL:https://fireclub.com.br/evento/tardezinha-liberal-2/
ATTACH;FMTTYPE=image/jpeg:https://fireclub.com.br/wp-content/uploads/2026/03/tardezinha-liberal-2.jpg
END:VEVENT
BEGIN:VEVENT
DTSTART;VALUE=DATE:20260401
DTEND;VALUE=DATE:20260403
DTSTAMP:20260423T181759
CREATED:20260331T222653Z
LAST-MODIFIED:20260331T222653Z
UID:23463-1775030400-1775116799@fireclub.com.br
SUMMARY:Clube do Prazer
DESCRIPTION:
URL:https://fireclub.com.br/evento/clube-do-prazer/
ATTACH;FMTTYPE=image/jpeg:https://fireclub.com.br/wp-content/uploads/2026/03/WhatsApp-Image-2026-03-31-at-08.37.26.jpeg
END:VEVENT
BEGIN:VEVENT
DTSTART;VALUE=DATE:20260402
DTEND;VALUE=DATE:20260404
DTSTAMP:20260423T181759
CREATED:20260401T011656Z
LAST-MODIFIED:20260401T011720Z
UID:23466-1775116800-1775203199@fireclub.com.br
SUMMARY:Convite Secreto
DESCRIPTION:
URL:https://fireclub.com.br/evento/convite-secreto-5/
ATTACH;FMTTYPE=image/jpeg:https://fireclub.com.br/wp-content/uploads/2026/03/convite-secreto.jpg
END:VEVENT
BEGIN:VEVENT
DTSTART;VALUE=DATE:20260403
DTEND;VALUE=DATE:20260405
DTSTAMP:20260423T181759
CREATED:20260401T230912Z
LAST-MODIFIED:20260401T230912Z
UID:23470-1775203200-1775289599@fireclub.com.br
SUMMARY:Desejo Insano
DESCRIPTION:
URL:https://fireclub.com.br/evento/desejo-insano-3/
ATTACH;FMTTYPE=image/jpeg:https://fireclub.com.br/wp-content/uploads/2026/04/desejo-insano-2.jpg
END:VEVENT
BEGIN:VEVENT
DTSTART;VALUE=DATE:20260404
DTEND;VALUE=DATE:20260406
DTSTAMP:20260423T181759
CREATED:20260330T165559Z
LAST-MODIFIED:20260330T165559Z
UID:23460-1775289600-1775375999@fireclub.com.br
SUMMARY:Festa das Coelhinhas
DESCRIPTION:
URL:https://fireclub.com.br/evento/festa-das-coelhinhas/
ATTACH;FMTTYPE=image/jpeg:https://fireclub.com.br/wp-content/uploads/2026/03/baile-das-coelhinhas.jpg
END:VEVENT
BEGIN:VEVENT
DTSTART;VALUE=DATE:20260407
DTEND;VALUE=DATE:20260409
DTSTAMP:20260423T181759
CREATED:20260406T191613Z
LAST-MODIFIED:20260406T191613Z
UID:23473-1775548800-1775635199@fireclub.com.br
SUMMARY:Noite dos Fetiches
DESCRIPTION:
URL:https://fireclub.com.br/evento/noite-dos-fetiches-5/
ATTACH;FMTTYPE=image/jpeg:https://fireclub.com.br/wp-content/uploads/2026/04/1.jpg
END:VEVENT
BEGIN:VEVENT
DTSTART;VALUE=DATE:20260408
DTEND;VALUE=DATE:20260410
DTSTAMP:20260423T181759
CREATED:20260407T171117Z
LAST-MODIFIED:20260407T171117Z
UID:23476-1775635200-1775721599@fireclub.com.br
SUMMARY:Quarta Proibida
DESCRIPTION:
URL:https://fireclub.com.br/evento/quarta-proibida/
ATTACH;FMTTYPE=image/jpeg:https://fireclub.com.br/wp-content/uploads/2026/04/quarta-proibida.jpg
END:VEVENT
BEGIN:VEVENT
DTSTART;VALUE=DATE:20260409
DTEND;VALUE=DATE:20260411
DTSTAMP:20260423T181759
CREATED:20260407T171211Z
LAST-MODIFIED:20260407T171211Z
UID:23479-1775721600-1775807999@fireclub.com.br
SUMMARY:Convite Selvagem
DESCRIPTION:
URL:https://fireclub.com.br/evento/convite-selvagem/
ATTACH;FMTTYPE=image/jpeg:https://fireclub.com.br/wp-content/uploads/2026/04/convite-secreto.jpg
END:VEVENT
BEGIN:VEVENT
DTSTART;VALUE=DATE:20260410
DTEND;VALUE=DATE:20260412
DTSTAMP:20260423T181759
CREATED:20260408T185554Z
LAST-MODIFIED:20260408T185554Z
UID:23483-1775808000-1775894399@fireclub.com.br
SUMMARY:Sexta Ménage
DESCRIPTION:
URL:https://fireclub.com.br/evento/sexta-menage-8/
ATTACH;FMTTYPE=image/jpeg:https://fireclub.com.br/wp-content/uploads/2026/04/instinto-prive.jpg
END:VEVENT
BEGIN:VEVENT
DTSTART;VALUE=DATE:20260411
DTEND;VALUE=DATE:20260413
DTSTAMP:20260423T181759
CREATED:20260409T012431Z
LAST-MODIFIED:20260409T012431Z
UID:23486-1775894400-1775980799@fireclub.com.br
SUMMARY:Desejo Privê
DESCRIPTION:
URL:https://fireclub.com.br/evento/desejo-prive-2/
ATTACH;FMTTYPE=image/jpeg:https://fireclub.com.br/wp-content/uploads/2026/04/WhatsApp-Image-2026-04-08-at-21.01.46.jpeg
END:VEVENT
BEGIN:VEVENT
DTSTART;TZID=America/Cuiaba:20260412T170000
DTEND;TZID=America/Cuiaba:20260412T230000
DTSTAMP:20260423T181759
CREATED:20260409T012736Z
LAST-MODIFIED:20260409T013818Z
UID:23490-1776013200-1776034800@fireclub.com.br
SUMMARY:Tardezinha Liberal
DESCRIPTION:
URL:https://fireclub.com.br/evento/tardezinha-liberal-3/
ATTACH;FMTTYPE=image/jpeg:https://fireclub.com.br/wp-content/uploads/2026/04/tardezinha-2.jpg
END:VEVENT
BEGIN:VEVENT
DTSTART;VALUE=DATE:20260415
DTEND;VALUE=DATE:20260417
DTSTAMP:20260423T181759
CREATED:20260409T153932Z
LAST-MODIFIED:20260414T230915Z
UID:23495-1776240000-1776326399@fireclub.com.br
SUMMARY:Desejo Oculto
DESCRIPTION:
URL:https://fireclub.com.br/evento/desejo-oculto/
ATTACH;FMTTYPE=image/jpeg:https://fireclub.com.br/wp-content/uploads/2026/04/desejo-oculto.jpg
END:VEVENT
BEGIN:VEVENT
DTSTART;VALUE=DATE:20260416
DTEND;VALUE=DATE:20260418
DTSTAMP:20260423T181759
CREATED:20260409T154021Z
LAST-MODIFIED:20260414T231418Z
UID:23498-1776326400-1776412799@fireclub.com.br
SUMMARY:Convite Secreto
DESCRIPTION:
URL:https://fireclub.com.br/evento/convite-secreto-6/
ATTACH;FMTTYPE=image/jpeg:https://fireclub.com.br/wp-content/uploads/2026/04/convite-intimo-2.jpg
END:VEVENT
BEGIN:VEVENT
DTSTART;VALUE=DATE:20260417
DTEND;VALUE=DATE:20260419
DTSTAMP:20260423T181759
CREATED:20260410T173427Z
LAST-MODIFIED:20260416T225902Z
UID:23505-1776412800-1776499199@fireclub.com.br
SUMMARY:Prazer Absoluto
DESCRIPTION:
URL:https://fireclub.com.br/evento/prazer-absoluto/
ATTACH;FMTTYPE=image/jpeg:https://fireclub.com.br/wp-content/uploads/2026/04/prazer-absoluto-1.jpg
END:VEVENT
BEGIN:VEVENT
DTSTART;VALUE=DATE:20260418
DTEND;VALUE=DATE:20260420
DTSTAMP:20260423T181759
CREATED:20260409T172436Z
LAST-MODIFIED:20260416T224942Z
UID:23501-1776499200-1776585599@fireclub.com.br
SUMMARY:Furacão 2000
DESCRIPTION:
URL:https://fireclub.com.br/evento/furacao-2000/
ATTACH;FMTTYPE=image/jpeg:https://fireclub.com.br/wp-content/uploads/2026/04/furacao-2000-final-1.jpg
END:VEVENT
BEGIN:VEVENT
DTSTART;VALUE=DATE:20260419
DTEND;VALUE=DATE:20260421
DTSTAMP:20260423T181759
CREATED:20260412T183828Z
LAST-MODIFIED:20260412T183828Z
UID:23508-1776585600-1776671999@fireclub.com.br
SUMMARY:Tardezinha Liberal
DESCRIPTION:
URL:https://fireclub.com.br/evento/tardezinha-liberal-4/
ATTACH;FMTTYPE=image/jpeg:https://fireclub.com.br/wp-content/uploads/2026/04/tardezinha-2-1.jpg
END:VEVENT
END:VCALENDAR