BEGIN:VCALENDAR
VERSION:2.0
PRODID:-//Fire Club - Swing e Balada Liberal - ECPv6.15.13//NONSGML v1.0//EN
CALSCALE:GREGORIAN
METHOD:PUBLISH
X-ORIGINAL-URL:https://fireclub.com.br
X-WR-CALDESC:Eventos para Fire Club - Swing e Balada Liberal
REFRESH-INTERVAL;VALUE=DURATION:PT1H
X-Robots-Tag:noindex
X-PUBLISHED-TTL:PT1H
BEGIN:VTIMEZONE
TZID:America/Cuiaba
BEGIN:STANDARD
TZOFFSETFROM:-0400
TZOFFSETTO:-0400
TZNAME:-04
DTSTART:20250101T000000
END:STANDARD
END:VTIMEZONE
BEGIN:VEVENT
DTSTART;VALUE=DATE:20260216
DTEND;VALUE=DATE:20260218
DTSTAMP:20260423T181553
CREATED:20260204T171033Z
LAST-MODIFIED:20260204T171120Z
UID:23298-1771228800-1771315199@fireclub.com.br
SUMMARY:Bloco das Celouras
DESCRIPTION:
URL:https://fireclub.com.br/evento/bloco-das-celouras/
ATTACH;FMTTYPE=image/jpeg:https://fireclub.com.br/wp-content/uploads/2026/02/WhatsApp-Image-2026-02-03-at-20.53.33.jpeg
END:VEVENT
END:VCALENDAR