BEGIN:VCALENDAR
VERSION:2.0
PRODID:-//Fire Club - Swing e Balada Liberal - ECPv6.15.13//NONSGML v1.0//EN
CALSCALE:GREGORIAN
METHOD:PUBLISH
X-WR-CALNAME:Fire Club - Swing e Balada Liberal
X-ORIGINAL-URL:https://fireclub.com.br
X-WR-CALDESC:Eventos para Fire Club - Swing e Balada Liberal
REFRESH-INTERVAL;VALUE=DURATION:PT1H
X-Robots-Tag:noindex
X-PUBLISHED-TTL:PT1H
BEGIN:VTIMEZONE
TZID:America/Cuiaba
BEGIN:STANDARD
TZOFFSETFROM:-0400
TZOFFSETTO:-0400
TZNAME:-04
DTSTART:20250101T000000
END:STANDARD
END:VTIMEZONE
BEGIN:VEVENT
DTSTART;VALUE=DATE:20260123
DTEND;VALUE=DATE:20260125
DTSTAMP:20260423T193955
CREATED:20260119T233340Z
LAST-MODIFIED:20260119T233340Z
UID:23234-1769155200-1769234399@fireclub.com.br
SUMMARY:Instinto Noturno
DESCRIPTION:
URL:https://fireclub.com.br/evento/instinto-noturno/
CATEGORIES:Evento
ATTACH;FMTTYPE=image/jpeg:https://fireclub.com.br/wp-content/uploads/2026/01/WhatsApp-Image-2026-01-19-at-19.22.04.jpeg
END:VEVENT
BEGIN:VEVENT
DTSTART;VALUE=DATE:20260124
DTEND;VALUE=DATE:20260126
DTSTAMP:20260423T193955
CREATED:20260119T233614Z
LAST-MODIFIED:20260119T233822Z
UID:23237-1769241600-1769320799@fireclub.com.br
SUMMARY:Tentação Íntima
DESCRIPTION:
URL:https://fireclub.com.br/evento/tentacao-intima/
CATEGORIES:Evento
ATTACH;FMTTYPE=image/jpeg:https://fireclub.com.br/wp-content/uploads/2026/01/1.jpg
END:VEVENT
END:VCALENDAR