BEGIN:VCALENDAR
VERSION:2.0
PRODID:-//Fire Club - Swing e Balada Liberal - ECPv6.15.13//NONSGML v1.0//EN
CALSCALE:GREGORIAN
METHOD:PUBLISH
X-WR-CALNAME:Fire Club - Swing e Balada Liberal
X-ORIGINAL-URL:https://fireclub.com.br
X-WR-CALDESC:Eventos para Fire Club - Swing e Balada Liberal
REFRESH-INTERVAL;VALUE=DURATION:PT1H
X-Robots-Tag:noindex
X-PUBLISHED-TTL:PT1H
BEGIN:VTIMEZONE
TZID:America/Cuiaba
BEGIN:STANDARD
TZOFFSETFROM:-0400
TZOFFSETTO:-0400
TZNAME:-04
DTSTART:20240101T000000
END:STANDARD
END:VTIMEZONE
BEGIN:VEVENT
DTSTART;VALUE=DATE:20251121
DTEND;VALUE=DATE:20251123
DTSTAMP:20260423T223040
CREATED:20251121T183517Z
LAST-MODIFIED:20251121T183531Z
UID:23147-1763712000-1763791199@fireclub.com.br
SUMMARY:Bate com força
DESCRIPTION:
URL:https://fireclub.com.br/evento/bate-com-forca/
ATTACH;FMTTYPE=image/jpeg:https://fireclub.com.br/wp-content/uploads/2025/11/73214b89-e6ff-467c-a4aa-d3e1b77ab200.jpeg
END:VEVENT
END:VCALENDAR