BEGIN:VCALENDAR
VERSION:2.0
PRODID:-//Fire Club - Swing e Balada Liberal - ECPv6.15.13//NONSGML v1.0//EN
CALSCALE:GREGORIAN
METHOD:PUBLISH
X-ORIGINAL-URL:https://fireclub.com.br
X-WR-CALDESC:Eventos para Fire Club - Swing e Balada Liberal
REFRESH-INTERVAL;VALUE=DURATION:PT1H
X-Robots-Tag:noindex
X-PUBLISHED-TTL:PT1H
BEGIN:VTIMEZONE
TZID:America/Cuiaba
BEGIN:STANDARD
TZOFFSETFROM:-0400
TZOFFSETTO:-0400
TZNAME:-04
DTSTART:20240101T000000
END:STANDARD
END:VTIMEZONE
BEGIN:VEVENT
DTSTART;VALUE=DATE:20251114
DTEND;VALUE=DATE:20251116
DTSTAMP:20260423T223209
CREATED:20251114T195734Z
LAST-MODIFIED:20251114T195734Z
UID:23136-1763107200-1763186399@fireclub.com.br
SUMMARY:Sexta swing
DESCRIPTION:
URL:https://fireclub.com.br/evento/sexta-swing-9/
CATEGORIES:Evento
ATTACH;FMTTYPE=image/jpeg:https://fireclub.com.br/wp-content/uploads/2025/11/30ffd05e-68cc-482b-b516-8d996e00a5e7.jpeg
END:VEVENT
BEGIN:VEVENT
DTSTART;VALUE=DATE:20251115
DTEND;VALUE=DATE:20251117
DTSTAMP:20260423T223209
CREATED:20251115T183414Z
LAST-MODIFIED:20251115T183414Z
UID:23139-1763193600-1763272799@fireclub.com.br
SUMMARY:Sábado Menage
DESCRIPTION:
URL:https://fireclub.com.br/evento/sabado-menage-3/
CATEGORIES:Evento
ATTACH;FMTTYPE=image/jpeg:https://fireclub.com.br/wp-content/uploads/2025/11/628f357d-87eb-42d4-a658-fffe771ea986.jpeg
END:VEVENT
END:VCALENDAR